BEGIN:VCALENDAR
VERSION:2.0
PRODID:-//Sabre//Sabre VObject 4.5.7//EN
CALSCALE:GREGORIAN
BEGIN:VEVENT
UID:sabre-vobject-e3bbb617-07ca-477c-8530-31bef567920d
DTSTAMP:20260419T070523Z
SUMMARY:Potsdamer Tag der Wissenschaften
DTSTART:20260509T100000Z
DTEND:20260509T160000Z
DESCRIPTION:<h3 style="margin-left:0px\;">Forschen. Entdecken. Mitmachen.</
 h3>\n<p>Tauchen Sie ein in die faszinierende <strong>Welt der Wissenschaft
 !</strong> Der Potsdamer Tag der Wissenschaften bringt Forscherinnen und F
 orscher mit der Öffentlichkeit zusammen und macht Wissenschaft erlebbar.&
 nbsp\;<br><br>Egal ob Jung oder Alt\, Neugierige oder Experten – dieser 
 Tag bietet einzigartige Einblicke in aktuelle Forschungsprojekte und innov
 ative Technologien. Nutzen Sie die Gelegenheit\, Wissenschaft hautnah zu e
 rleben und mit den Menschen hinter den Ideen ins Gespräch zu kommen.</p>\
 n<p>Ob Wissenschaftsbegeisterte\, Familien oder Studierende – der Potsda
 mer Tag der Wissenschaften bietet für alle etwas.</p>\n<p><a href="https:
 //potsdamertagderwissenschaften.de" target="_blank" rel="noreferrer">Mehr 
 erfahren</a></p>
LOCATION:Campus Golm der Universität Potsdam
URL;VALUE=URI:https://www.praesenzstelle-fuerstenwalde.de/termine/detail/po
 tsdamer-tag-der-wissenschaften
END:VEVENT
END:VCALENDAR
